BEGIN:VCALENDAR
VERSION:2.0
PRODID:-//wp-events-plugin.com//6.5//EN
TZID:Europe/Lisbon
X-WR-TIMEZONE:Europe/Lisbon
BEGIN:VEVENT
UID:22-9648@lissabon.swea.org
DTSTART;VALUE=DATE:20261007
DTEND;VALUE=DATE:20261008
DTSTAMP:20260318T081353Z
URL:https://lissabon.swea.org/events/swea-lissabon-35-ar-den-7-oktober-202
 6/
SUMMARY:SWEA Lissabon 35 år den 7 oktober 2026
DESCRIPTION:Mer information kommer!
ATTACH;FMTTYPE=image/jpeg:https://lissabon.swea.org/wp-content/uploads/sit
 es/22/2024/09/e86b8ae1-1b99-4689-b85d-ecc13c43be79.jpg
CATEGORIES:SWEA event
END:VEVENT
END:VCALENDAR