BEGIN:VCALENDAR
VERSION:2.0
PRODID:-//wp-events-plugin.com//6.5//EN
TZID:Europe/Lisbon
X-WR-TIMEZONE:Europe/Lisbon
BEGIN:VEVENT
UID:22-10073@lissabon.swea.org
DTSTART:20260513T110000Z
DTEND:20260513T123000Z
DTSTAMP:20260412T180447Z
URL:https://lissabon.swea.org/events/swea-kaffe-den-13-maj-2026/
SUMMARY:SWEA-kaffe den 13 maj 2026 på Hotel Londres\, Estoril
DESCRIPTION:Vår sponsor Peter Billton från Mercator kommer att prata om D
 ynamiken kring försäljning av bostäder\, vad man ska tänka på.\n\nTid
 : 11.00-12.30\nAdress: Hotel Londres\nPris: 10 euro\n\nVarmt välkomna!
ATTACH;FMTTYPE=image/jpeg:https://lissabon.swea.org/wp-content/uploads/sit
 es/22/2024/02/Kaffe-1-forsattsbild.jpg
END:VEVENT
END:VCALENDAR